BEGIN:VCALENDAR
VERSION:2.0
PRODID:-//Cople, Bedfordshire - ECPv6.15.17//NONSGML v1.0//EN
CALSCALE:GREGORIAN
METHOD:PUBLISH
X-WR-CALNAME:Cople, Bedfordshire
X-ORIGINAL-URL:https://www.cople.org.uk
X-WR-CALDESC:Events for Cople, Bedfordshire
REFRESH-INTERVAL;VALUE=DURATION:PT1H
X-Robots-Tag:noindex
X-PUBLISHED-TTL:PT1H
BEGIN:VTIMEZONE
TZID:UTC
BEGIN:STANDARD
TZOFFSETFROM:+0000
TZOFFSETTO:+0000
TZNAME:UTC
DTSTART:20210101T000000
END:STANDARD
END:VTIMEZONE
BEGIN:VEVENT
DTSTART;TZID=UTC:20220223T090000
DTEND;TZID=UTC:20220223T090000
DTSTAMP:20260420T222620
CREATED:20220117T104931Z
LAST-MODIFIED:20220117T105334Z
UID:2720-1645606800-1645606800@www.cople.org.uk
SUMMARY:Bag 2 School
DESCRIPTION:Friends of Sheerhatch School (FOSH) \nWe have another collection again and you’re invited to leave your unwanted bags of clothes at Sheerhatch Primary School (Cople or Willington sites) on the morning of Wednesday 23rd February (BEFORE 9am) – any bags can be used… \nThe more we collect\, the more money we raise for the school\, so please spread the word! You can donate the following ‘good quality’ items for RE-USE*:\nMen’s\, Ladies’ & Children’s clothing; Paired shoes (tied together or elastic band around); Handbags\, Hats\, Bags\, Scarves & ties; Jewellery\, Lingerie\, Socks\, Belts\, Soft toys; Household linen\, Household curtains\, Household towels; Household bedding (bed sheets\, pillowcases & duvet covers).\n* We reserve the right to refuse any unsuitable items\nWe CAN NOT accept: Duvets & blankets; Pillows & cushions; Carpets; rugs & mats (including bath\, shower & toilet mats);\, Soiled\, painted\, ripped or wet clothing; School uniforms with or without logo; Corporate clothing & workwear; Textile off cuts\, yarns or threaded material. \nAlso\, for your calendar\, there is another one booked for Wednesday 15th June. \nAny support is gratefully received\, Friends of Sheerhatch (FOSH)
URL:https://www.cople.org.uk/events/bag-2-school/
LOCATION:Sheerhatch Lower School\, Willington Road\, Cople\, Bedfordshire\, MK44 3TH\, United Kingdom
CATEGORIES:Cople Lower School
END:VEVENT
END:VCALENDAR