BEGIN:VCALENDAR
VERSION:2.0
PRODID:-//Cople, Bedfordshire - ECPv6.15.17//NONSGML v1.0//EN
CALSCALE:GREGORIAN
METHOD:PUBLISH
X-ORIGINAL-URL:https://www.cople.org.uk
X-WR-CALDESC:Events for Cople, Bedfordshire
REFRESH-INTERVAL;VALUE=DURATION:PT1H
X-Robots-Tag:noindex
X-PUBLISHED-TTL:PT1H
BEGIN:VTIMEZONE
TZID:UTC
BEGIN:STANDARD
TZOFFSETFROM:+0000
TZOFFSETTO:+0000
TZNAME:UTC
DTSTART:20210101T000000
END:STANDARD
END:VTIMEZONE
BEGIN:VEVENT
DTSTART;TZID=UTC:20220602T183000
DTEND;TZID=UTC:20220602T230000
DTSTAMP:20260416T131118
CREATED:20220214T130428Z
LAST-MODIFIED:20220504T135628Z
UID:2738-1654194600-1654210800@www.cople.org.uk
SUMMARY:70 years Celebration Beacon
DESCRIPTION:70 years Celebration – Moggerhanger Park – Beacon and song\n \nSING ALONG WITH US\nWe do hope that you have put June 2nd into your diary\, and will be able to come to Moggerhanger Park for the lighting of our Beacon at 9.45pm and the singing of the Song for the Commonwealth. \nToo late for the children?   Well no\, as we have four days’ holiday and they can sleep in!! \nThere are four chances to learn our song on:  \n\nMonday 16 May at Cople Church\nTuesday 17 May at Willington Church:\nWednesday 18 May at Moggerhanger Church.The above churches will be open at 6.45pm\, we will sing at 7pm and be home before 8pm.   Do please make the effort to come along to one of these sessions\, and collect a copy of the words\nSunday 29 May Gwynneth Akins is also taking a rehearsal at 11.45am after the service at Willington Methodist Chapel.\n\nChoose which day is most convenient for you or come to all of them if you want to!! \nIf you want to listen to the song beforehand or want to have your own copy of the words CLICK HERE: \nEveryone is welcome. \n\nJUNE THE SECOND\nWe are so happy to be part of the Commonwealth Celebrations for the Queen’s Platinum Jubilee\, along with many other choirs across the UK and Commonwealth. Our official Benefice Choir photo which has been taken especially for the Commonwealth Resounds’ records below. \nThis is a Historical occasion\, children in the future will read about it in their history books\, so you’ll need a flag to wave on the evening\, your copy of the song and a torch. \nMoggerhanger Park will be open from 6.30pm. There will be bands playing between 7pm and 8pm\, while you can enjoy a drink from the bar\, or a juicy morsel from the Barbecue. \nThere’ll be Face Painting for the children\, as well as a Bouncy Castle\, and Dance music in the Courtyard from 8.30pm until 9pm and again\, at the end of the evening. \nPlease note that while there is no charge for admission\, we will all need a ticket to get into the Park. You should apply on their web-site www.moggerhangerpark.com where there are further details about the Event.\nFrom 9.30pm we join with the other Commonwealth countries and all parts of the British Isles in paying respects to our Queen. Our Master of Ceremonies will introduce the Fanfare\, The Earl of Erroll will light the Beacon\, and we will sing the special song we have learnt. \nAfter The National Anthem\, the Master of Ceremonies will lead us in three cheers for Her Majesty\, you can applaud\, wave your flags\, listen to some more music\, buy the last sausage on the Barbecue\, and then we’ll make our ways home safely. \nGates will be closed at 11pm. \nFinally . . . Please take ALL litter home with you. \n“Leave nothing but your footprints\, Take nothing but memories of a remarkable occasion in which YOU took part .” \nSo\, looking forward to spending a lovely evening with you all \nShirley Jones \n 
URL:https://www.cople.org.uk/events/70-years-celebration-moggerhanger-park-beacon-and-song/
LOCATION:Moggerhanger Park House\, Park Road \, Moggerhanger\, MK44 3RW
CATEGORIES:All Saints Church,Moggerhanger,St Lawrence Church
END:VEVENT
BEGIN:VEVENT
DTSTART;VALUE=DATE:20220604
DTEND;VALUE=DATE:20220606
DTSTAMP:20260416T131118
CREATED:20220315T154830Z
LAST-MODIFIED:20220315T154830Z
UID:2752-1654300800-1654473599@www.cople.org.uk
SUMMARY:Flower Festival
DESCRIPTION:Flower Festival\nTo celebrate The Queens Platinum Jubilee Cople Church will host a flower festival on Saturday 4th and Sunday 5th June. \nWe would like it to be a community event to represent our village. It would be perfect if all clubs and organisations\, groups of people\, families or individuals took part. \nThe theme\, of course\, will be the Queen. Garden flowers\, wildflowers\, greenery and if you wish to use bought flowers. It is your choice. \nIt is not a competition\, a simple vase of flowers is always a delight. The church will be open on Thursday 2nd and Friday 3rd June for you to deliver or arrange your flowers. \nIf you would like to take part please or would like further information please contact Eileen Brooks on 01234 838519\, email efbrooks@btinternet.com \nMore information about the event will be available in May’s Cople News
URL:https://www.cople.org.uk/events/flower-festival/
LOCATION:All Saints Church\, Cople\, Grange Lane\, Cople\, Bedfordshire\, United Kingdom
CATEGORIES:All Saints Church,Historic buildings,Local area events,Other
END:VEVENT
BEGIN:VEVENT
DTSTART;TZID=UTC:20220604T120000
DTEND;TZID=UTC:20220604T230000
DTSTAMP:20260416T131118
CREATED:20220602T111523Z
LAST-MODIFIED:20220602T111523Z
UID:2803-1654344000-1654383600@www.cople.org.uk
SUMMARY:Platinum Jubilee Celebrations
DESCRIPTION:Noon – Cople Sports Bar opens \n12.30-14.30 Sports on the playing fields: tug of war\, footgolf\, darts etc. All free other than Bar and BBQ \n12.30-16.30 Flower Festival and cake competition in the Church \n14.30 unil all gone – BBQ sponsored by Piggotts Butchers \n15.00 to 19.30 Live music by Scraping the Barrel on the main stage and music quiz hosted by Miles \n20.00 to late – The Five Bells hosts live music with Philla \n  \nBring as picnic and come in fancy dress from the last 70 years \n 
URL:https://www.cople.org.uk/events/platinum-jubilee-celebrations/
LOCATION:Cople Sports and Social Club\, Grange Lane\, Cople\, Bedfordshire\, United Kingdom
CATEGORIES:All Saints Church,Cople Sports & Social Club,Music,Other
END:VEVENT
BEGIN:VEVENT
DTSTART;TZID=UTC:20220615T090000
DTEND;TZID=UTC:20220615T090000
DTSTAMP:20260416T131118
CREATED:20220117T105253Z
LAST-MODIFIED:20220117T105253Z
UID:2725-1655283600-1655283600@www.cople.org.uk
SUMMARY:Bag 2 School
DESCRIPTION:Friends of Sheerhatch School (FOSH) \nWe have another collection again and you’re invited to leave your unwanted bags of clothes at Sheerhatch Primary School (Cople or Willington sites) on the morning of Wednesday 15th June (BEFORE 9am) – any bags can be used… \nThe more we collect\, the more money we raise for the school\, so please spread the word! You can donate the following ‘good quality’ items for RE-USE*:\nMen’s\, Ladies’ & Children’s clothing; Paired shoes (tied together or elastic band around); Handbags\, Hats\, Bags\, Scarves & ties; Jewellery\, Lingerie\, Socks\, Belts\, Soft toys; Household linen\, Household curtains\, Household towels; Household bedding (bed sheets\, pillowcases & duvet covers).\n* We reserve the right to refuse any unsuitable items\nWe CAN NOT accept: Duvets & blankets; Pillows & cushions; Carpets; rugs & mats (including bath\, shower & toilet mats);\, Soiled\, painted\, ripped or wet clothing; School uniforms with or without logo; Corporate clothing & workwear; Textile off cuts\, yarns or threaded material. \nAny support is gratefully received\, Friends of Sheerhatch (FOSH)
URL:https://www.cople.org.uk/events/bag-2-school-2/
LOCATION:Sheerhatch Lower School\, Willington Road\, Cople\, Bedfordshire\, MK44 3TH\, United Kingdom
CATEGORIES:Cople Lower School
END:VEVENT
BEGIN:VEVENT
DTSTART;TZID=UTC:20220625T193000
DTEND;TZID=UTC:20220625T230000
DTSTAMP:20260416T131118
CREATED:20220114T124314Z
LAST-MODIFIED:20220312T152134Z
UID:2714-1656185400-1656198000@www.cople.org.uk
SUMMARY:Barn Dance
DESCRIPTION:Friends of Cople Church \nAfter the disappointment of having to cancel the Safari Supper in February\, we are glad to announce that the Barn Dance is planned to go ahead. The last two years have taught us that we cannot say with absolute certainty\, but the intention is to hold it at the usual location\, Oak Farm\, Northill on Saturday 25th June. The band\, Kelly’s Eye\, has been booked\, so all we need is people to come and dance – or just eat the barbecued pork and drink from the bar. So\, start practising your Dosey Does\, Promenading and Stripping the Willow! \nThis is a very popular event\, so I would suggest you get your ticket requests in early. Tickets will be priced at £17.50 and will go on sale immediately. We ask that tickets be paid for at time of request or at least before the night\, and to make that easier the bank details for bank transfer payment can be found below. Remember to tell us of any dietary requirements. \nWe are looking at other events for later in the year – a repeat of the successful and popular Gin Night is a possibility – albeit tweaked\, and there is the threat of another Panto. Oh yes there is! \nThese events are run to raise funds for the upkeep of All Saints Church in Cople. With two years of expenditure\, with very little ability to raise funds\, our bank balance is at its lowest since 2004\, and the Friends charity was founded in 2003. \nWe are lucky that we have some people who make regular or one-off donations during the year which helps\, so if you would like to make a donation\, the bank details are as follows: \nBank: Lloyds \nSort Code: 309066 \nAccount No: 03064452 \nAccount Name: “The Friends of All Saints Church Cople” \nAnd if you want to do gift aid\, please contact Sally Gilpin\, our treasurer on sally@sjtax.co.uk
URL:https://www.cople.org.uk/events/barn-dance-6/
LOCATION:Oak Farm\, Bedford Rd\, Northill\, Biggleswade\,  SG18 9AW
CATEGORIES:All Saints Church,Charity event,Dance,Friends of Cople Church,Historic buildings,Music
ORGANIZER;CN="Friends of Cople Church":MAILTO:milotetley@gmail.com
END:VEVENT
END:VCALENDAR