BEGIN:VCALENDAR
VERSION:2.0
PRODID:-//Cople, Bedfordshire - ECPv6.15.17//NONSGML v1.0//EN
CALSCALE:GREGORIAN
METHOD:PUBLISH
X-WR-CALNAME:Cople, Bedfordshire
X-ORIGINAL-URL:https://www.cople.org.uk
X-WR-CALDESC:Events for Cople, Bedfordshire
REFRESH-INTERVAL;VALUE=DURATION:PT1H
X-Robots-Tag:noindex
X-PUBLISHED-TTL:PT1H
BEGIN:VTIMEZONE
TZID:UTC
BEGIN:STANDARD
TZOFFSETFROM:+0000
TZOFFSETTO:+0000
TZNAME:UTC
DTSTART:20220101T000000
END:STANDARD
END:VTIMEZONE
BEGIN:VEVENT
DTSTART;TZID=UTC:20230319T110000
DTEND;TZID=UTC:20230319T120000
DTSTAMP:20260420T003525
CREATED:20230224T172855Z
LAST-MODIFIED:20230224T172855Z
UID:2969-1679223600-1679227200@www.cople.org.uk
SUMMARY:Mothering Sunday Family Service
DESCRIPTION:You are invited to All Saints Cople \nFlowers will be given out to all families \nRefreshments will be available \nAll wecome
URL:https://www.cople.org.uk/events/mothering-sunday-family-service/
LOCATION:All Saints Church\, Cople\, Grange Lane\, Cople\, Bedfordshire\, United Kingdom
CATEGORIES:All Saints Church
END:VEVENT
END:VCALENDAR