BEGIN:VCALENDAR
VERSION:2.0
PRODID:-//Cople, Bedfordshire - ECPv6.15.17//NONSGML v1.0//EN
CALSCALE:GREGORIAN
METHOD:PUBLISH
X-ORIGINAL-URL:https://www.cople.org.uk
X-WR-CALDESC:Events for Cople, Bedfordshire
REFRESH-INTERVAL;VALUE=DURATION:PT1H
X-Robots-Tag:noindex
X-PUBLISHED-TTL:PT1H
BEGIN:VTIMEZONE
TZID:UTC
BEGIN:STANDARD
TZOFFSETFROM:+0000
TZOFFSETTO:+0000
TZNAME:UTC
DTSTART:20220101T000000
END:STANDARD
END:VTIMEZONE
BEGIN:VEVENT
DTSTART;TZID=UTC:20230902T140000
DTEND;TZID=UTC:20230902T213000
DTSTAMP:20260420T072931
CREATED:20230624T155649Z
LAST-MODIFIED:20230902T122958Z
UID:3053-1693663200-1693690200@www.cople.org.uk
SUMMARY:Cople Proms
DESCRIPTION:Celebrating George Michael\n2.00pm Bluebird\n2.45pm Rober J Hunter\n3.30pm Apollo\n4.5pm Black Ridge\n6.00pm Woolly Hat\n7.15pm Rhubarb\n8.20pm Proms Choir\n8.50pm The George Michael Experience\nPlus\nEmma on the decks\, BBQ\, Hog roast\, Outside bar\, Pimms and cocktails\, Kids entertainment\nEveryone welcome\nEnter via Village Hall\, charity donations on the gate\nLicensed Bar\, BBQ\, Kids Entertainment\nTo be held on the playing fields\, Grange Lane\, Cople\, Beds MK44 3TT
URL:https://www.cople.org.uk/events/cople-proms-2/
LOCATION:Cople Sports and Social Club\, Grange Lane\, Cople\, Bedfordshire\, United Kingdom
CATEGORIES:Charity event,Cople Sports & Social Club,Music,Performances
END:VEVENT
END:VCALENDAR