BEGIN:VCALENDAR
VERSION:2.0
PRODID:-//Cople, Bedfordshire - ECPv6.15.17//NONSGML v1.0//EN
CALSCALE:GREGORIAN
METHOD:PUBLISH
X-WR-CALNAME:Cople, Bedfordshire
X-ORIGINAL-URL:https://www.cople.org.uk
X-WR-CALDESC:Events for Cople, Bedfordshire
REFRESH-INTERVAL;VALUE=DURATION:PT1H
X-Robots-Tag:noindex
X-PUBLISHED-TTL:PT1H
BEGIN:VTIMEZONE
TZID:UTC
BEGIN:STANDARD
TZOFFSETFROM:+0000
TZOFFSETTO:+0000
TZNAME:UTC
DTSTART:20220101T000000
END:STANDARD
END:VTIMEZONE
BEGIN:VEVENT
DTSTART;TZID=UTC:20231021T190000
DTEND;TZID=UTC:20231021T230000
DTSTAMP:20260420T053710
CREATED:20230927T080833Z
LAST-MODIFIED:20230927T090711Z
UID:3122-1697914800-1697929200@www.cople.org.uk
SUMMARY:Wear It Pink Night
DESCRIPTION:Wear it Pink Night \nLive music from Woolly Hat \nGuest singers \nRaffle \nEntrance is free but donations are gratefully received\, Barclay’s Bank has promised to fund-match\, provided a target is reached\, so do help to support the event. \nRaising money for the UK’s largest breast cancer charity: Breast Cancer Now
URL:https://www.cople.org.uk/events/pink-night/
LOCATION:Cople Sports and Social Club\, Grange Lane\, Cople\, Bedfordshire\, United Kingdom
CATEGORIES:Charity event,Cople Sports & Social Club,Music
END:VEVENT
END:VCALENDAR