BEGIN:VCALENDAR
VERSION:2.0
PRODID:-//Cople, Bedfordshire - ECPv6.15.17//NONSGML v1.0//EN
CALSCALE:GREGORIAN
METHOD:PUBLISH
X-ORIGINAL-URL:https://www.cople.org.uk
X-WR-CALDESC:Events for Cople, Bedfordshire
REFRESH-INTERVAL;VALUE=DURATION:PT1H
X-Robots-Tag:noindex
X-PUBLISHED-TTL:PT1H
BEGIN:VTIMEZONE
TZID:UTC
BEGIN:STANDARD
TZOFFSETFROM:+0000
TZOFFSETTO:+0000
TZNAME:UTC
DTSTART:20220101T000000
END:STANDARD
END:VTIMEZONE
BEGIN:VEVENT
DTSTART;TZID=UTC:20231104T190000
DTEND;TZID=UTC:20231104T223000
DTSTAMP:20260420T035353
CREATED:20231019T114139Z
LAST-MODIFIED:20231019T114139Z
UID:3149-1699124400-1699137000@www.cople.org.uk
SUMMARY:Cricket Awards
DESCRIPTION:Cople Cricket Club Awards Night 2023 \nLive Bangra Band \nKaraoke \nEveryone welcome
URL:https://www.cople.org.uk/events/cricket-awards/
LOCATION:Cople Sports and Social Club\, Grange Lane\, Cople\, Bedfordshire\, United Kingdom
CATEGORIES:Cople Sports & Social Club
END:VEVENT
END:VCALENDAR