BEGIN:VCALENDAR
VERSION:2.0
PRODID:-//Cople, Bedfordshire - ECPv6.15.17//NONSGML v1.0//EN
CALSCALE:GREGORIAN
METHOD:PUBLISH
X-WR-CALNAME:Cople, Bedfordshire
X-ORIGINAL-URL:https://www.cople.org.uk
X-WR-CALDESC:Events for Cople, Bedfordshire
REFRESH-INTERVAL;VALUE=DURATION:PT1H
X-Robots-Tag:noindex
X-PUBLISHED-TTL:PT1H
BEGIN:VTIMEZONE
TZID:UTC
BEGIN:STANDARD
TZOFFSETFROM:+0000
TZOFFSETTO:+0000
TZNAME:UTC
DTSTART:20210101T000000
END:STANDARD
END:VTIMEZONE
BEGIN:VEVENT
DTSTART;TZID=UTC:20221021T190000
DTEND;TZID=UTC:20221021T223000
DTSTAMP:20260420T105512
CREATED:20220925T131340Z
LAST-MODIFIED:20220925T131340Z
UID:2902-1666378800-1666391400@www.cople.org.uk
SUMMARY:Wear it Pink
DESCRIPTION:Raising funds for breast cancer research\nLive Music from Wolly Hat\, Philla and Donna Samuels\nRaffle (prize donations welcome)\nEvery Welcome
URL:https://www.cople.org.uk/events/wear-it-pink-2/
LOCATION:Cople Sports and Social Club\, Grange Lane\, Cople\, Bedfordshire\, United Kingdom
CATEGORIES:Charity event,Cople Sports & Social Club,Music
END:VEVENT
END:VCALENDAR