BEGIN:VCALENDAR
VERSION:2.0
PRODID:-//Cople, Bedfordshire - ECPv6.15.17//NONSGML v1.0//EN
CALSCALE:GREGORIAN
METHOD:PUBLISH
X-WR-CALNAME:Cople, Bedfordshire
X-ORIGINAL-URL:https://www.cople.org.uk
X-WR-CALDESC:Events for Cople, Bedfordshire
REFRESH-INTERVAL;VALUE=DURATION:PT1H
X-Robots-Tag:noindex
X-PUBLISHED-TTL:PT1H
BEGIN:VTIMEZONE
TZID:UTC
BEGIN:STANDARD
TZOFFSETFROM:+0000
TZOFFSETTO:+0000
TZNAME:UTC
DTSTART:20210101T000000
END:STANDARD
END:VTIMEZONE
BEGIN:VEVENT
DTSTART;TZID=UTC:20221211T180000
DTEND;TZID=UTC:20221211T193000
DTSTAMP:20260420T073953
CREATED:20221126T142715Z
LAST-MODIFIED:20221126T142715Z
UID:2924-1670781600-1670787000@www.cople.org.uk
SUMMARY:Carol Services
DESCRIPTION:11th—Family Carols @ 3.30pm @ St Lawrence\, Willlington \n11th—Carols by Candlelight @ 6.00pm @ All Saints\, Cople \n 
URL:https://www.cople.org.uk/events/carol-services/
LOCATION:All Saints Church\, Cople\, Grange Lane\, Cople\, Bedfordshire\, United Kingdom
CATEGORIES:All Saints Church
END:VEVENT
END:VCALENDAR