BEGIN:VCALENDAR
VERSION:2.0
PRODID:-//Cople, Bedfordshire - ECPv6.15.17//NONSGML v1.0//EN
CALSCALE:GREGORIAN
METHOD:PUBLISH
X-ORIGINAL-URL:https://www.cople.org.uk
X-WR-CALDESC:Events for Cople, Bedfordshire
REFRESH-INTERVAL;VALUE=DURATION:PT1H
X-Robots-Tag:noindex
X-PUBLISHED-TTL:PT1H
BEGIN:VTIMEZONE
TZID:UTC
BEGIN:STANDARD
TZOFFSETFROM:+0000
TZOFFSETTO:+0000
TZNAME:UTC
DTSTART:20210101T000000
END:STANDARD
END:VTIMEZONE
BEGIN:VEVENT
DTSTART;TZID=UTC:20221225T110000
DTEND;TZID=UTC:20221225T120000
DTSTAMP:20260420T074400
CREATED:20221126T143040Z
LAST-MODIFIED:20221126T143145Z
UID:2928-1671966000-1671969600@www.cople.org.uk
SUMMARY:Christmas Day Service\, Cople
DESCRIPTION:Christmas Day\, 25th\n9.30am @ St John’s Moggerhanger\n11.00am @ All Saints Cople \n 
URL:https://www.cople.org.uk/events/christmas-day-service-cople/
LOCATION:All Saints Church\, Cople\, Grange Lane\, Cople\, Bedfordshire\, United Kingdom
CATEGORIES:All Saints Church
END:VEVENT
END:VCALENDAR