BEGIN:VCALENDAR
VERSION:2.0
PRODID:-//Cople, Bedfordshire - ECPv6.15.17//NONSGML v1.0//EN
CALSCALE:GREGORIAN
METHOD:PUBLISH
X-WR-CALNAME:Cople, Bedfordshire
X-ORIGINAL-URL:https://www.cople.org.uk
X-WR-CALDESC:Events for Cople, Bedfordshire
REFRESH-INTERVAL;VALUE=DURATION:PT1H
X-Robots-Tag:noindex
X-PUBLISHED-TTL:PT1H
BEGIN:VTIMEZONE
TZID:UTC
BEGIN:STANDARD
TZOFFSETFROM:+0000
TZOFFSETTO:+0000
TZNAME:UTC
DTSTART:20220101T000000
END:STANDARD
END:VTIMEZONE
BEGIN:VEVENT
DTSTART;TZID=UTC:20230416T110000
DTEND;TZID=UTC:20230416T120000
DTSTAMP:20260420T003725
CREATED:20230225T090506Z
LAST-MODIFIED:20230225T090506Z
UID:2977-1681642800-1681646400@www.cople.org.uk
SUMMARY:Village Litter Pick
DESCRIPTION:If you would like to be involved and help keep Cople litter free \nMeet at the parking bay outside the Church \nPlease wear suitable footwear \nGloves\, litter pickers and bags will be provided \nContact: Navin Sankersingh 07595 426887
URL:https://www.cople.org.uk/events/village-litter-pick-2/
LOCATION:All Saints Church\, Cople\, Grange Lane\, Cople\, Bedfordshire\, United Kingdom
CATEGORIES:Local environment,Other
END:VEVENT
END:VCALENDAR