BEGIN:VCALENDAR
VERSION:2.0
PRODID:-//Cople, Bedfordshire - ECPv6.15.17//NONSGML v1.0//EN
CALSCALE:GREGORIAN
METHOD:PUBLISH
X-WR-CALNAME:Cople, Bedfordshire
X-ORIGINAL-URL:https://www.cople.org.uk
X-WR-CALDESC:Events for Cople, Bedfordshire
REFRESH-INTERVAL;VALUE=DURATION:PT1H
X-Robots-Tag:noindex
X-PUBLISHED-TTL:PT1H
BEGIN:VTIMEZONE
TZID:UTC
BEGIN:STANDARD
TZOFFSETFROM:+0000
TZOFFSETTO:+0000
TZNAME:UTC
DTSTART:20220101T000000
END:STANDARD
END:VTIMEZONE
BEGIN:VEVENT
DTSTART;TZID=UTC:20230916T130000
DTEND;TZID=UTC:20230916T160000
DTSTAMP:20260419T160124
CREATED:20230823T071234Z
LAST-MODIFIED:20230823T071234Z
UID:3101-1694869200-1694880000@www.cople.org.uk
SUMMARY:Cople Community
DESCRIPTION:An event to give residents the opportunity to learn about the different groups in the parish and future plans \nOrganised by the Parish Council
URL:https://www.cople.org.uk/events/cople-community/
LOCATION:Cople Village Hall\, Grange Lane\, Cople\, Bedfordshire\, United Kingdom
CATEGORIES:Cople Parish Council,Police,Village Hall, Cople
ORGANIZER;CN="Cople Parish Clerk":MAILTO:coplepc@outlook.com
END:VEVENT
END:VCALENDAR