BEGIN:VCALENDAR
VERSION:2.0
PRODID:-//Cople, Bedfordshire - ECPv6.15.17//NONSGML v1.0//EN
CALSCALE:GREGORIAN
METHOD:PUBLISH
X-WR-CALNAME:Cople, Bedfordshire
X-ORIGINAL-URL:https://www.cople.org.uk
X-WR-CALDESC:Events for Cople, Bedfordshire
REFRESH-INTERVAL;VALUE=DURATION:PT1H
X-Robots-Tag:noindex
X-PUBLISHED-TTL:PT1H
BEGIN:VTIMEZONE
TZID:UTC
BEGIN:STANDARD
TZOFFSETFROM:+0000
TZOFFSETTO:+0000
TZNAME:UTC
DTSTART:20220101T000000
END:STANDARD
END:VTIMEZONE
BEGIN:VEVENT
DTSTART;TZID=UTC:20230924T110000
DTEND;TZID=UTC:20230924T120000
DTSTAMP:20260419T160123
CREATED:20230823T071707Z
LAST-MODIFIED:20230823T071707Z
UID:3103-1695553200-1695556800@www.cople.org.uk
SUMMARY:Litter Pick
DESCRIPTION:Village Litter Pick \nBe involved for just 1 hour and help keep Cople litter free \nMeet at the parking bay outside the Church \nPlease wear suitable footwear \nHi-viz jackets\, gloves\, litter pickers and bags provided \nContact Navin Sankersingh 07595 426887 \n 
URL:https://www.cople.org.uk/events/litter-pick-2/
LOCATION:Bedfordshire
CATEGORIES:Local area events,Local environment,Other
END:VEVENT
END:VCALENDAR