BEGIN:VCALENDAR
VERSION:2.0
PRODID:-//Cople, Bedfordshire - ECPv6.15.17//NONSGML v1.0//EN
CALSCALE:GREGORIAN
METHOD:PUBLISH
X-WR-CALNAME:Cople, Bedfordshire
X-ORIGINAL-URL:https://www.cople.org.uk
X-WR-CALDESC:Events for Cople, Bedfordshire
REFRESH-INTERVAL;VALUE=DURATION:PT1H
X-Robots-Tag:noindex
X-PUBLISHED-TTL:PT1H
BEGIN:VTIMEZONE
TZID:UTC
BEGIN:STANDARD
TZOFFSETFROM:+0000
TZOFFSETTO:+0000
TZNAME:UTC
DTSTART:20180101T000000
END:STANDARD
END:VTIMEZONE
BEGIN:VEVENT
DTSTART;TZID=UTC:20190601T083000
DTEND;TZID=UTC:20190601T123000
DTSTAMP:20260424T160022
CREATED:20190416T110910Z
LAST-MODIFIED:20190416T110910Z
UID:2242-1559377800-1559392200@www.cople.org.uk
SUMMARY:Bulky Waste Collection
DESCRIPTION:Bedford Borough Council \nCollection of Bulky Waste in Cople\nPlease take your domestic waste to the following locations \nPLEASE NOTE: This is scheduled for SATURDAY 1st JUNE this year \n08.30am to 10.00am Junction of Rye Crescent/Willington Road \n10.00am to 11.00am Junction of Water End/Northill Road \n11.00am to 12.30pm Junction of Village Hall\, Grange Lane \nTimes are approximate\, allow for vehicle travelling time between sites \nPLEASE DO NOT LEAVE RUBBISH AT THE SITE IF THE COLLECTION VEHICLE IS NOT THERE
URL:https://www.cople.org.uk/events/bulky-waste-collection/
LOCATION:Bedfordshire
CATEGORIES:Local environment,Other Events
END:VEVENT
END:VCALENDAR