BEGIN:VCALENDAR
VERSION:2.0
PRODID:-//Cople, Bedfordshire - ECPv6.15.17//NONSGML v1.0//EN
CALSCALE:GREGORIAN
METHOD:PUBLISH
X-WR-CALNAME:Cople, Bedfordshire
X-ORIGINAL-URL:https://www.cople.org.uk
X-WR-CALDESC:Events for Cople, Bedfordshire
REFRESH-INTERVAL;VALUE=DURATION:PT1H
X-Robots-Tag:noindex
X-PUBLISHED-TTL:PT1H
BEGIN:VTIMEZONE
TZID:UTC
BEGIN:STANDARD
TZOFFSETFROM:+0000
TZOFFSETTO:+0000
TZNAME:UTC
DTSTART:20190101T000000
END:STANDARD
END:VTIMEZONE
BEGIN:VEVENT
DTSTART;TZID=UTC:20220130T103000
DTEND;TZID=UTC:20220130T233000
DTSTAMP:20260424T202420
CREATED:20220117T105708Z
LAST-MODIFIED:20220117T105708Z
UID:2727-1643538600-1643585400@www.cople.org.uk
SUMMARY:Litter Pick
DESCRIPTION:Sunday 30th January 2022 meet outside Cople church at 10.30am \nAll equipment provided. Please wear suitable clothing & sturdy footwear. \nPlease bring your own hand sanitiser. Masks Optional. \nEvent contact: Anne Pape clerk@cople-pc.co.uk
URL:https://www.cople.org.uk/events/litter-pick/
LOCATION:All Saints Church\, Cople\, Grange Lane\, Cople\, Bedfordshire\, United Kingdom
CATEGORIES:All Saints Church,Local environment,Other,Other Events
END:VEVENT
BEGIN:VEVENT
DTSTART;TZID=UTC:20210827T180000
DTEND;TZID=UTC:20210827T210000
DTSTAMP:20260424T202420
CREATED:20210812T103156Z
LAST-MODIFIED:20210812T103540Z
UID:2655-1630087200-1630098000@www.cople.org.uk
SUMMARY:Rounders 2021
DESCRIPTION:Ladies and Gentlemen of Cople\, \n  \nAfter a missing a year\, the annual Rounders Competition between Cople and Cardington for the “Bashes” trophy\, will take place on Cople Playing field near the Sports and Social Club on: \n  \nFriday 27th August 2021 @ 18:30 \n  \nThe Sports and Social Club bar will open at 18:00\, to take advantage of the athletes need to re-hydrate. \n  \nWe need volunteers to take part in the team for which entry or participation\, will be £5. All ages are welcome\, especially those who are fleet of foot and have good hand-eye coordination. \n  \nTwo years ago Cople thrashed Cardington\, much to their disgust. The fact that Cople provided the umpire had nothing whatsoever to do with it. But in the spirit of fair play\, Cardington will be supplying the umpire this year – it will of course make no difference to the result at all! \n  \nWe will also be running a cake stall\, which is of course the food of choice of rounders players. So if you fancy your hand at baking and wish to donate a cake please do so\, bringing it on the evening or dropping off to me before the day. (7 Woodlands Close). \n  \nFunds raised will be split between the Friends of Cople Church and Friends of Cardington Church. \n  \nSo please come along and take part or support\, eat cake and drink. \n  \nRegards\, \n  \nMiles
URL:https://www.cople.org.uk/events/cople-v-cardington-rounders-2021/
LOCATION:Cople Sports and Social Club\, Grange Lane\, Cople\, Bedfordshire\, United Kingdom
CATEGORIES:Cardington,Charity event,Cople Sports & Social Club,Other
ATTACH;FMTTYPE=image/jpeg:https://www.cople.org.uk/wp-content/uploads/2021/08/rounders2021Featured-8422.jpg
ORGANIZER;CN="Miles Tetley":MAILTO:milotetley@gmail.com
END:VEVENT
BEGIN:VEVENT
DTSTART;TZID=UTC:20210821T150000
DTEND;TZID=UTC:20210821T190000
DTSTAMP:20260424T202420
CREATED:20210812T110128Z
LAST-MODIFIED:20210820T103559Z
UID:2664-1629558000-1629572400@www.cople.org.uk
SUMMARY:BBQ - CANCELLED
DESCRIPTION:Due to an inclement weather forecast\, this event has been postponed. \nWe are looking at an alternative date which I will communicate in the near future. \nApologies for the short notice\, but better to be pragmatic about this. \nRegards\, \nMiles \n  \nOpen to all comers \nWe will be cooking burgers and sausages\, plus vegetarian options\, with trimmings \nBYO salad and desserts \nWe have a bar selling alcohol and soft drinks \nBring chairs and rugs if you wish \nVisit the tower with Mike Vacher \nRaffle \nFunds to the Friends of Cople Church for the upkeep of the grade 1 listed building \nPlease bring CASH as there are no card facilities
URL:https://www.cople.org.uk/events/bbq/
LOCATION:All Saints Church\, Cople\, Grange Lane\, Cople\, Bedfordshire\, United Kingdom
CATEGORIES:All Saints Church,Charity event,Friends of Cople Church,Historic buildings,Other
ATTACH;FMTTYPE=image/jpeg:https://www.cople.org.uk/wp-content/uploads/2021/08/Cople-Church-Clock-9030.jpg
ORGANIZER;CN="Miles Tetley":MAILTO:milotetley@gmail.com
END:VEVENT
BEGIN:VEVENT
DTSTART;TZID=UTC:20200328T190000
DTEND;TZID=UTC:20200328T220000
DTSTAMP:20260424T202420
CREATED:20200226T102542Z
LAST-MODIFIED:20200322T141856Z
UID:2440-1585422000-1585432800@www.cople.org.uk
SUMMARY:Spring Quiz & Supper CANCELLED
DESCRIPTION:This event has been cancelled due to Covid-19 Issues \nTwo-course hot meal included \nBring your own drinks and nibbles \nTables of six – come with your own team or we can put you on a table \nTickets £8.50 pp \nContact Sue on 01234 838560 or Karen 07986 549462 \nEmail: karenjjoynes@gmail.com
URL:https://www.cople.org.uk/events/spring-quiz-supper/
LOCATION:All Saints Church\, Cople\, Grange Lane\, Cople\, Bedfordshire\, United Kingdom
CATEGORIES:All Saints Church,Charity event,Historic buildings,Other
END:VEVENT
END:VCALENDAR