BEGIN:VCALENDAR
VERSION:2.0
PRODID:-//Cople, Bedfordshire - ECPv6.15.17//NONSGML v1.0//EN
CALSCALE:GREGORIAN
METHOD:PUBLISH
X-WR-CALNAME:Cople, Bedfordshire
X-ORIGINAL-URL:https://www.cople.org.uk
X-WR-CALDESC:Events for Cople, Bedfordshire
REFRESH-INTERVAL;VALUE=DURATION:PT1H
X-Robots-Tag:noindex
X-PUBLISHED-TTL:PT1H
BEGIN:VTIMEZONE
TZID:UTC
BEGIN:STANDARD
TZOFFSETFROM:+0000
TZOFFSETTO:+0000
TZNAME:UTC
DTSTART:20240101T000000
END:STANDARD
END:VTIMEZONE
BEGIN:VEVENT
DTSTART;TZID=UTC:20250427T150000
DTEND;TZID=UTC:20250427T154500
DTSTAMP:20260420T034820
CREATED:20250415T114754Z
LAST-MODIFIED:20250415T114754Z
UID:3512-1745766000-1745768700@www.cople.org.uk
SUMMARY:Organ Music
DESCRIPTION:by David Williams \nEvery one Welcome \nFree entry \nRefreshments will be served and the NT Dovecot and Stables wiil also be open for you to look around \n 
URL:https://www.cople.org.uk/events/organ-music-2/
LOCATION:St Lawrence\,  Church End\, Willington\, Bedfordshire\, Bedford\, Bedfordshire\, MK44 3PX\, United Kingdom
CATEGORIES:Historic buildings,St Lawrence Church
END:VEVENT
END:VCALENDAR