BEGIN:VCALENDAR
VERSION:2.0
PRODID:-//Cople, Bedfordshire - ECPv6.15.17//NONSGML v1.0//EN
CALSCALE:GREGORIAN
METHOD:PUBLISH
X-ORIGINAL-URL:https://www.cople.org.uk
X-WR-CALDESC:Events for Cople, Bedfordshire
REFRESH-INTERVAL;VALUE=DURATION:PT1H
X-Robots-Tag:noindex
X-PUBLISHED-TTL:PT1H
BEGIN:VTIMEZONE
TZID:UTC
BEGIN:STANDARD
TZOFFSETFROM:+0000
TZOFFSETTO:+0000
TZNAME:UTC
DTSTART:20240101T000000
END:STANDARD
END:VTIMEZONE
BEGIN:VEVENT
DTSTART;TZID=UTC:20251224T233000
DTEND;TZID=UTC:20251224T233000
DTSTAMP:20260422T154534
CREATED:20251116T143812Z
LAST-MODIFIED:20251116T143812Z
UID:3870-1766619000-1766619000@www.cople.org.uk
SUMMARY:Midnight Communion
DESCRIPTION:Held at St Lawrence Church\, Willington
URL:https://www.cople.org.uk/events/midnight-communion-3/
LOCATION:St Lawrence\,  Church End\, Willington\, Bedfordshire\, Bedford\, Bedfordshire\, MK44 3PX\, United Kingdom
CATEGORIES:St Lawrence Church
END:VEVENT
END:VCALENDAR