BEGIN:VCALENDAR
VERSION:2.0
PRODID:-//Cople, Bedfordshire - ECPv6.15.17//NONSGML v1.0//EN
CALSCALE:GREGORIAN
METHOD:PUBLISH
X-ORIGINAL-URL:https://www.cople.org.uk
X-WR-CALDESC:Events for Cople, Bedfordshire
REFRESH-INTERVAL;VALUE=DURATION:PT1H
X-Robots-Tag:noindex
X-PUBLISHED-TTL:PT1H
BEGIN:VTIMEZONE
TZID:UTC
BEGIN:STANDARD
TZOFFSETFROM:+0000
TZOFFSETTO:+0000
TZNAME:UTC
DTSTART:20240101T000000
END:STANDARD
END:VTIMEZONE
BEGIN:VEVENT
DTSTART;TZID=UTC:20250629T150000
DTEND;TZID=UTC:20250629T154500
DTSTAMP:20260425T104543
CREATED:20250415T115258Z
LAST-MODIFIED:20250425T144633Z
UID:3516-1751209200-1751211900@www.cople.org.uk
SUMMARY:Organ Music
DESCRIPTION:We are very pleased to welcome this month CLIFTON HUGHES. A musician of many years’ experience\, he will delight his audiences with his choice of programme\, and it will be a pleasure to share his love of music with you. \nYour kind donations help us to look after the Organ. Refreshments are available\, with conversation and good company. We look forward to seeing you. \nRefreshments will be served\, and the NT Dovecot and Stables will also be open for you to look around \nSt. Lawrence’s Church\, Church End\, Willington. MK44 3PX \nEvery one Welcome \nFree entry \n 
URL:https://www.cople.org.uk/events/organ-music-4/
LOCATION:St Lawrence\,  Church End\, Willington\, Bedfordshire\, Bedford\, Bedfordshire\, MK44 3PX\, United Kingdom
CATEGORIES:Historic buildings,St Lawrence Church
END:VEVENT
END:VCALENDAR